BEGIN:VCALENDAR
VERSION:2.0
PRODID:-//ChamberMaster//Event Calendar 2.0//EN
METHOD:PUBLISH
X-PUBLISHED-TTL:P1H
REFRESH-INTERVAL:P1H
CALSCALE:GREGORIAN
BEGIN:VTIMEZONE
TZID:America/Chicago
BEGIN:DAYLIGHT
RRULE:FREQ=YEARLY;BYMONTH=3;BYDAY=2SU
DTSTART:20070101T000000
TZOFFSETFROM:-0600
TZOFFSETTO:-0500
TZNAME:Central Daylight Time
END:DAYLIGHT
BEGIN:STANDARD
RRULE:FREQ=YEARLY;BYMONTH=11;BYDAY=1SU
DTSTART:20070101T000000
TZOFFSETFROM:-0500
TZOFFSETTO:-0600
TZNAME:Central Standard Time
END:STANDARD
END:VTIMEZONE
BEGIN:VEVENT
DTSTART;TZID=America/Chicago:20260625T080000
DTEND;TZID=America/Chicago:20260625T170000
X-MICROSOFT-CDO-ALLDAYEVENT:FALSE
SUMMARY:2026 A2J ALL NEW GREAT SHOTS Golf Tournament
DESCRIPTION:2026 A2J ANNUAL\nState Bar Convention ALL NEW GREAT SHOTS Golf TournamentTHURSDAY   JUNE 25\, 2026\nAnnual A2J Golf Fundraiser Tournament This year's tournament will be held at Great Shots in Sioux Falls.Registration\nOnline registration is for four-person teams only. The cost is $500 per team ($125 per player)\, and payment for all four players is required at the time of registration.Morning Session\nContinental breakfast with coffee and juice\, plus one drink ticket per player.\nCheck-in and breakfast at 8:00 a.m.\nTournament play from 8:30  11:30 a.m.Afternoon Session\nNachos buffet with soft drinks and iced tea\, plus one drink ticket per player.\nCheck-in and buffet at 12:30 p.m.\nTournament play from 1:00   4:00 p.m.Start times are tentative and will be confirmed.Players will participate in a digital golf tournament in climate-controlled bays. A full-service restaurant and bar are available on site.Tournament open to all bar members\, the judiciary\, bar spouses/partners\, court reporters\, paralegals\, and law students.
X-ALT-DESC;FMTTYPE=text/html:<!DOCTYPE html><html><head><title></title></head><body aria-disabled="false"><p style="text-align: center\;"><span style="color: rgb(65\, 168\, 95)\; font-size: 24px\;">2026 A2J ANNUAL<br>State Bar Convention ALL NEW GREAT SHOTS Golf Tournament</span></p><p data-end="87" data-start="0"><strong data-end="28" data-start="0" fr-original-style="" style="font-weight: 700\;"><span style="font-size: 18px\;">THURSDAY &ndash\; JUNE 25\, 2026</span></strong><span style="font-size: 18px\;"><br data-start="28" data-end="31"><strong data-end="87" data-start="31" fr-original-style="" style="font-weight: 700\;">Annual A2J Golf Fundraiser Tournament&nbsp\;</strong></span></p><p data-end="185" data-start="89"><span style="font-size: 18px\;">This year&rsquo\;s tournament will be held at <strong data-end="169" data-start="128" fr-original-style="" style="font-weight: 700\;"><span style="color: rgb(65\, 168\, 95)\;">Great Shots</span></strong> in Sioux Falls.</span></p><p data-end="375" data-start="187"><span style="font-size: 18px\;"><strong data-end="203" data-start="187" fr-original-style="" style="font-weight: 700\;">Registration</strong><br data-start="203" data-end="206">Online registration is for four-person teams only. The cost is $500 per team ($125 per player)\, and payment for all four players is required at the time of registration.</span></p><p data-end="554" data-start="377"><span style="font-size: 18px\;"><strong data-end="396" data-start="377" fr-original-style="" style="font-weight: 700\;">Morning Session</strong><br data-start="396" data-end="399">Continental breakfast with coffee and juice\, plus one drink ticket per player.<br data-start="477" data-end="480">Check-in and breakfast at 8:00 a.m.<br data-start="515" data-end="518">Tournament play from 8:30 &ndash\;11:30 a.m.</span></p><p data-end="751" data-start="556"><span style="font-size: 18px\;"><strong data-end="577" data-start="556" fr-original-style="" style="font-weight: 700\;">Afternoon Session</strong><br data-start="577" data-end="580">Nachos buffet with soft drinks and iced tea\, plus one drink ticket per player.<br data-start="677" data-end="680">Check-in and buffet at 12:30 p.m.<br data-start="713" data-end="716">Tournament play from 1:00 &ndash\; 4:00 p.m.</span></p><p data-end="803" data-start="753"><span style="font-size: 18px\;"><em data-end="803" data-start="753">Start times are tentative and will be confirmed.</em></span></p><p data-end="943" data-is-last-node="" data-is-only-node="" data-start="805"><span style="font-size: 18px\;">Players will participate in a digital golf tournament in climate-controlled bays. A full-service restaurant and bar are available on site.</span></p><h4 style="text-align: center\;"><span style="color: rgb(65\, 168\, 95)\;"><em>Tournament open to all bar members\, the judiciary\, bar spouses/partners\, court reporters\, paralegals\, and law students.</em></span></h4><p><br></p></body></html>
LOCATION:2505 West Benson Rd Sioux Falls SD 571074
UID:e.2366.1433628
SEQUENCE:3
DTSTAMP:20260421T232256Z
URL:https://members.statebarofsouthdakota.com/clecalendar/Details/2026-a2j-all-new-great-shots-golf-tournament-1696998?sourceTypeId=Hub
END:VEVENT
END:VCALENDAR
